{"text_format":"3","workbook":"xlsx","n_sheets":20,"sheets":["teh","Содержание","Доска Брус","Доска строг","Раублок-хаус, Шпунт","Вагонка","Погонаж","OSB","Фанера","ЦСП ГСП","ГКЛ","ДВП ДСП","Утеп-ли","Пароизол","Крепеж","Огнебио","Грунт для OSB ","Напл.мат","Цемент","Лист1"],"not_rendered":{"images":50,"macros":1,"defined_names":32},"read":"whole","date_system":"1900"}

{"sheet":"teh","index":0,"n_rows":20,"n_cols":12,"rows_kept":20,"hidden":true}
[1.728,2.016,2.304,2.592,{"v":2.88,"d":"2.880"},null,{"$f":"IF(A2,A1,0)","v":1.728},{"$f":"IF(B2,B1,0)","v":0},0,0,0,{"$f":"G1+H1+I1+J1+K1","v":1.728}]
[true,false,false,false,false,null,{"$f":"IF(A2,Вагонка!H7,0)","v":1728},{"$f":"IF(B2,Вагонка!I7,0)","v":0},{"$f":"IF(C2,Вагонка!J7,0)","v":0},{"$f":"IF(D2,Вагонка!K7,0)","v":0},{"$f":"IF(E2,Вагонка!L7,0)","v":0},{"$f":"SUM(G2:K2)","v":1728}]
[1.728,2.016,2.304,2.592,{"v":2.88,"d":"2.880"},null,{"$f":"IF(A4,A3,0)","v":1.728},{"$f":"IF(B4,B3,0)","v":0},0,0,0,{"$f":"G3+H3+I3+J3+K3","v":1.728}]
[true,false,false,false,false,null,{"$f":"IF(A4,Вагонка!H8,0)","v":864},{"$f":"IF(B4,Вагонка!I8,0)","v":0},{"$f":"IF(C4,Вагонка!J8,0)","v":0},{"$f":"IF(D4,Вагонка!K8,0)","v":0},{"$f":"IF(E4,Вагонка!L8,0)","v":0},{"$f":"SUM(G4:K4)","v":864}]
[1.728,2.016,2.304,2.592,{"v":2.88,"d":"2.880"},null,{"$f":"IF(A6,A5,0)","v":1.728},{"$f":"IF(B6,B5,0)","v":0},0,0,0,{"$f":"G5+H5+I5+J5+K5","v":1.728}]
[true,false,false,false,false,null,{"$f":"IF(A6,Вагонка!H9,0)","v":777.6},{"$f":"IF(B6,Вагонка!I9,0)","v":0},{"$f":"IF(C6,Вагонка!J9,0)","v":0},{"$f":"IF(D6,Вагонка!K9,0)","v":0},{"$f":"IF(E6,Вагонка!L9,0)","v":0},{"$f":"SUM(G6:K6)","v":777.6}]
[1.728,2.016,2.304,2.592,{"v":2.88,"d":"2.880"},null,{"$f":"IF(A8,A7,0)","v":1.728},{"$f":"IF(B8,B7,0)","v":0},0,0,0,{"$f":"G7+H7+I7+J7+K7","v":1.728}]
[true,false,false,false,false,null,{"$f":"IF(A8,Вагонка!H10,0)","v":432},{"$f":"IF(B8,Вагонка!I10,0)","v":0},{"$f":"IF(C8,Вагонка!J10,0)","v":0},{"$f":"IF(D8,Вагонка!K10,0)","v":0},{"$f":"IF(E8,Вагонка!L10,0)","v":0},{"$f":"SUM(G8:K8)","v":432}]
[1.728,2.016,2.304,2.592,{"v":2.88,"d":"2.880"},null,{"$f":"IF(A10,A9,0)","v":1.728},{"$f":"IF(B10,B9,0)","v":0},0,0,0,{"$f":"G9+H9+I9+J9+K9","v":1.728}]
[true,false,false,false,false,null,{"$f":"IF(A10,Вагонка!H11,0)","v":1296},{"$f":"IF(B10,Вагонка!I11,0)","v":0},{"$f":"IF(C10,Вагонка!J11,0)","v":0},{"$f":"IF(D10,Вагонка!K11,0)","v":0},{"$f":"IF(E10,Вагонка!L11,0)","v":0},{"$f":"SUM(G10:K10)","v":1296}]
[1.728,2.016,2.304,2.592,{"v":2.88,"d":"2.880"},null,{"$f":"IF(A12,A11,0)","v":1.728},{"$f":"IF(B12,B11,0)","v":0},0,0,0,{"$f":"G11+H11+I11+J11+K11","v":1.728}]
[true,false,false,false,false,null,{"$f":"IF(A12,Вагонка!H12,0)","v":1036.8},{"$f":"IF(B12,Вагонка!I12,0)","v":0},{"$f":"IF(C12,Вагонка!J12,0)","v":0},{"$f":"IF(D12,Вагонка!K12,0)","v":0},{"$f":"IF(E12,Вагонка!L12,0)","v":0},{"$f":"SUM(G12:K12)","v":1036.8}]
[1.728,2.016,2.304,2.592,{"v":2.88,"d":"2.880"},null,{"$f":"IF(A14,A13,0)","v":1.728},{"$f":"IF(B14,B13,0)","v":0},0,0,0,{"$f":"G13+H13+I13+J13+K13","v":1.728}]
[true,false,false,false,false,null,{"$f":"IF(A14,Вагонка!H13,0)","v":777.6},{"$f":"IF(B14,Вагонка!I13,0)","v":0},{"$f":"IF(C14,Вагонка!J13,0)","v":0},{"$f":"IF(D14,Вагонка!K13,0)","v":0},{"$f":"IF(E14,Вагонка!L13,0)","v":0},{"$f":"SUM(G14:K14)","v":777.6}]
[1.728,2.016,2.304,2.592,{"v":2.88,"d":"2.880"},null,{"$f":"IF(A16,A15,0)","v":1.728},{"$f":"IF(B16,B15,0)","v":0},0,0,0,{"$f":"G15+H15+I15+J15+K15","v":1.728}]
[true,false,false,false,false,null,{"$f":"IF(A16,Вагонка!H14,0)","v":1728},{"$f":"IF(B16,Вагонка!I14,0)","v":0},{"$f":"IF(C16,Вагонка!J14,0)","v":0},{"$f":"IF(D16,Вагонка!K14,0)","v":0},{"$f":"IF(E16,Вагонка!L14,0)","v":0},{"$f":"SUM(G16:K16)","v":1728}]
[1.728,2.016,2.304,2.592,{"v":2.88,"d":"2.880"},null,{"$f":"IF(A18,A17,0)","v":1.728},{"$f":"IF(B18,B17,0)","v":0},0,0,0,{"$f":"G17+H17+I17+J17+K17","v":1.728}]
[true,false,false,false,false,null,{"$f":"IF(A18,Вагонка!H15,0)","v":1382.4},{"$f":"IF(B18,Вагонка!I15,0)","v":0},{"$f":"IF(C18,Вагонка!J15,0)","v":0},{"$f":"IF(D18,Вагонка!K15,0)","v":0},{"$f":"IF(E18,Вагонка!L15,0)","v":0},{"$f":"SUM(G18:K18)","v":1382.4}]
[1.728,2.016,2.304,2.592,{"v":2.88,"d":"2.880"},null,{"$f":"IF(A20,A19,0)","v":1.728},{"$f":"IF(B20,B19,0)","v":0},0,0,0,{"$f":"G19+H19+I19+J19+K19","v":1.728}]
[true,false,false,false,false,null,{"$f":"IF(A20,Вагонка!H16,0)","v":604.8},{"$f":"IF(B20,Вагонка!I16,0)","v":0},{"$f":"IF(C20,Вагонка!J16,0)","v":0},{"$f":"IF(D20,Вагонка!K16,0)","v":0},{"$f":"IF(E20,Вагонка!L16,0)","v":0},{"$f":"SUM(G20:K20)","v":604.8}]

{"sheet":"Содержание","index":1,"n_rows":36,"n_cols":11,"rows_kept":36,"merged":[[7,0,9,2],[14,1,14,8],[15,1,15,8],[16,1,16,8],[17,1,17,8],[17,10,17,11],[18,1,18,8],[18,9,18,12],[19,1,19,7],[20,1,20,7],[20,9,21,9],[20,10,21,10],[21,1,21,7],[22,1,22,7],[23,1,23,7],[24,1,24,7],[25,1,25,7],[26,1,26,7],[27,1,27,7],[28,1,28,7],[29,1,29,7],[30,1,30,7],[31,1,31,7],[32,1,32,7]]}
[null,"ВАЖНО!!! Для работы прайса необходимо ВКЛЮЧИТЬ СОДЕРЖИМОЕ СТРАНИЦЫ"]
[]
[null,"Далее Вы выбираете интересующий Вас раздел(лист) и вводите необходимое кол-во нужного Вам товара"]
[null,"После этого переходите на \"главную страницу(Содержание)\" и оформляете заказ. После нажатия кнопки "]
[null,"\"ОФОРМИТЬ ЗАКАЗ\" удаляются пустые строки и вкладки(листы). Далее Вы сохраняете этот файл и отправляете его нам "]
[null,"на почту ","info@rus-les.net"]
{"$rows_empty":8}
[1,"Содержание"]
[2,"Доска, брус"]
[3,"Доска сухая строганная"]
[4,"Имитация бруса/сруба, доска пола шпунтованная"]
[5,"Вагонка"]
[6,"Погонаж"]
[7,"ОSB-3 (Ориентировано-стружечные плиты)",{"$nulls":7},"Сумма заказа",{"$f":"'Доска Брус'!K39+'Доска строг'!F25+'Раублок-хаус, Шпунт'!L17+Вагонка!O17+Погонаж!J20+OSB!H12+Фанера!G24+'ЦСП ГСП'!F21+ГКЛ!G10+'ДВП ДСП'!F9+'Утеп-ли'!I31+Пароизол!H22+Крепеж!K22+#REF!+Огнебио!G38+'Грунт для OSB '!G9+#REF!+Напл.мат!J9+Цемент!K8+#REF!+#REF!","v":{"$error":"#VALUE!"}}]
[8,"Фанера"]
[9,"ЦСП, ГСП (Цементно/гипсостружечные плиты)"]
[10,"ГКЛ, ПГП (Гипсокартон, пазогребневые плиты)"]
[11,"ДВП, ДСП "]
[12,"Утеплители, пенопласт, фольга"]
[13,"Пароизоляционные материалы",{"$nulls":8}," "]
[14,"Крепеж"]
[15,"Лаки, краски для дерева"]
[16,"Огнебиозащита, антисептики"]
[17,"Грунт для OSB-3. НОВИНКА!!!"]
[18,"Грунты глубокого проникновения"]
[19,"Наплавляемые кровельные материалы"]
[20,"Цемент"]
[21,"Черенки"]
[22,"Перчатки, мешки для мусора"]

{"sheet":"Доска Брус","index":2,"n_rows":39,"n_cols":11,"rows_kept":39,"merged":[[5,0,5,5],[18,0,18,5],[30,0,30,5]]}
[{"$nulls":10},"на главную страницу"]
["ПИЛОМАТЕРИАЛ ЕСТЕСТВЕННОЙ ВЛАЖНОСТИ"]
[]
["№","Наименование","Кол-во досок в м3","Объем одной доски м3","Цена за м3, руб","Цена за шт, руб","Кол-во заказа в шт","Сумма,   руб/шт","Кол-во заказа в м3","Цена за м3, руб","Сумма, руб/м3"]
[{"$nulls":6},"Напишите         кол-во заказа в шт",null,"Напишите        кол-во заказа в м3"]
["Доска обрезная 1 сорт",{"$nulls":5},"-",null,"-"]
[1,"Доска обрезная 25*100*3000 1 сорт",133.3,0.0075,"от 13000",{"$f":"E7/C7","v":{"$error":"#VALUE!"}},null,{"$f":"F7*G7","v":{"$error":"#VALUE!"}},null,{"v":8200,"d":"8,200р."},{"$f":"I7*J7","v":{"v":0,"d":"0.00р."}}]
[2,"Доска обрезная 25*100*6000 1 сорт",66.6,0.015,"от 18500",{"$f":"E8/C8","v":{"$error":"#VALUE!"}},null,{"$f":"F8*G8","v":{"$error":"#VALUE!"}},null,{"v":8200,"d":"8,200р."},{"$f":"E8*I8","v":{"$error":"#VALUE!"}}]
[3,"Доска обрезная 25*130*6000 1 сорт",51.3,0.019,"от 18500",{"$error":"#VALUE!"},null,{"$error":"#VALUE!"},null,{"v":8200,"d":"8,200р."},{"$error":"#VALUE!"}]
[4,"Доска обрезная 25*150*6000 1 сорт",44.4,0.022,"от 18500",{"$error":"#VALUE!"},null,{"$error":"#VALUE!"},null,{"v":8200,"d":"8,200р."},{"$error":"#VALUE!"}]
[5,"Доска обрезная 25*200*6000 1 сорт",33.3,0.03,"от 18500",{"$error":"#VALUE!"},null,{"$error":"#VALUE!"},null,{"v":8200,"d":"8,200р."},{"$error":"#VALUE!"}]
[6,"Доска обрезная 40*100*6000 1сорт",41.6,0.024,"от 18500",{"$error":"#VALUE!"},null,{"$error":"#VALUE!"},null,{"v":8200,"d":"8,200р."},{"$error":"#VALUE!"}]
[7,"Доска обрезная 40*150*6000 1 сорт",27.7,0.036,"от 18500",{"$error":"#VALUE!"},null,{"$error":"#VALUE!"},null,{"v":8200,"d":"8,200р."},{"$error":"#VALUE!"}]
[8,"Доска обрезная 40*200*6000 1 сорт",20.8,0.048,"от 18500",{"$error":"#VALUE!"},null,{"$error":"#VALUE!"},null,{"v":8200,"d":"8,200р."},{"$error":"#VALUE!"}]
[9,"Доска 50*100*6000 1 сорт",33.3,0.03,"от 18500",{"$error":"#VALUE!"},null,{"$error":"#VALUE!"},null,{"v":8200,"d":"8,200р."},{"$error":"#VALUE!"}]
[10,"Доска 50*150*6000 1 сорт",22.2,0.045,"от 18500",{"$error":"#VALUE!"},null,{"$error":"#VALUE!"},null,{"v":8200,"d":"8,200р."},{"$error":"#VALUE!"}]
[11,"Доска 50*200*6000 1 сорт ",16.6,0.06,"от 18500",{"$error":"#VALUE!"},null,{"$error":"#VALUE!"},null,{"v":8200,"d":"8,200р."},{"$error":"#VALUE!"}]
[12,"Доска 50*250*6000 1 сорт ",13.3,0.075,"от 19500",{"$error":"#VALUE!"},null,{"$error":"#VALUE!"},null,{"v":8500,"d":"8,500р."},{"$error":"#VALUE!"}]
["Доска обрезная 2 сорт",{"$nulls":5},"-",null,"-"]
[13,"Доска обрезная 25*100*3000 2 сорт",133,0.0075,"от 9500",{"$f":"D20*E20","v":{"$error":"#VALUE!"}},null,{"$f":"F20*G20","v":{"$error":"#VALUE!"}},null,{"v":5700,"d":"5,700"},{"$f":"I20*J20","v":{"v":0,"d":"0.00р."}}]
[14,"Доска обрезная 25*100*6000 2 сорт",66.6,0.015,"от 11500",{"$f":"D21*E21","v":{"$error":"#VALUE!"}},null,{"$f":"F21*G21","v":{"$error":"#VALUE!"}},null,{"v":5700,"d":"5,700"},{"$f":"I21*J21","v":{"v":0,"d":"0.00р."}}]
[15,"Доска обрезная  25*130*6000 2 сорт",51.3,0.019,"от 11500",{"$f":"D22*E22","v":{"$error":"#VALUE!"}},null,{"$error":"#VALUE!"},null,{"v":5700,"d":"5,700"},{"v":0,"d":"0.00р."}]
[16,"Доска обрезная 25*150*6000 2 сорт",44.4,0.022,"от 11500",{"$error":"#VALUE!"},null,{"$error":"#VALUE!"},null,{"v":5700,"d":"5,700"},{"v":0,"d":"0.00р."}]
[17,"Доска обрезная 25*200*6000 2 сорт",33.3,0.03,"от 11500",{"$error":"#VALUE!"},null,{"$error":"#VALUE!"},null,{"v":5700,"d":"5,700"},{"v":0,"d":"0.00р."}]
[18,"Доска обрезная 40*100*6000 2 сорт",41.6,0.024,"от 14500",{"$error":"#VALUE!"},null,{"$error":"#VALUE!"},null,{"v":6700,"d":"6,700"},{"v":0,"d":"0.00р."}]
[19,"Доска обрезная 40*150*6000 2 сорт",27.7,0.036,"от 14500",{"$error":"#VALUE!"},null,{"$error":"#VALUE!"},null,{"v":6700,"d":"6,700"},{"$f":"I26*J26","v":{"v":0,"d":"0.00р."}}]
[20,"Доска обрезная 40*200*6000 2 сорт",20.8,0.048,"от 14500",{"$error":"#VALUE!"},null,{"$error":"#VALUE!"},null,{"v":6700,"d":"6,700"},{"v":0,"d":"0.00р."}]
[21,"Доска обрезная 50*100*6000 2 сорт",33.3,0.03,"от 14500",{"$error":"#VALUE!"},null,{"$error":"#VALUE!"},null,{"v":6700,"d":"6,700"},{"v":0,"d":"0.00р."}]
[22,"Доска обрезная 50*150*6000 2 сорт",22.2,0.045,"от 14500",{"$error":"#VALUE!"},null,{"$error":"#VALUE!"},null,{"v":6700,"d":"6,700"},{"v":0,"d":"0.00р."}]
[23,"Доска обрезная 50*200*6000 2 сорт ",16.6,0.06,"от 14500",{"$error":"#VALUE!"},null,{"$error":"#VALUE!"},null,{"v":6700,"d":"6,700"},{"v":0,"d":"0.00р."}]
["Брус ",{"$nulls":5},"-",null,"-"]
[24,"Брус 100*100*6000",16.6,0.06,"от 18500",{"$f":"D32*E32","v":{"$error":"#VALUE!"}},null,{"$f":"F32*G32","v":{"$error":"#VALUE!"}},null,{"v":8200,"d":"8,200р."},{"$f":"I32*J32","v":{"v":0,"d":"0.00р."}}]
[25,"Брус 100*150*6000",11.1,0.09,"от 18500",{"$f":"D33*E33","v":{"$error":"#VALUE!"}},null,{"$f":"F33*G33","v":{"$error":"#VALUE!"}},null,{"v":8200,"d":"8,200р."},{"$f":"I33*J33","v":{"v":0,"d":"0.00р."}}]
[26,"Брус 150*150*6000",7.4,0.135,"от 18500",{"$error":"#VALUE!"},null,{"$error":"#VALUE!"},null,{"v":8200,"d":"8,200р."},{"v":0,"d":"0.00р."}]
[27,"Брус 100*200*6000",8.3,0.12,"от 18500",{"$error":"#VALUE!"},null,{"$error":"#VALUE!"},null,{"v":8500,"d":"8,500р."},{"v":0,"d":"0.00р."}]
[28,"Брус 150*200*6000",5.5,0.18,"от 19000",{"$error":"#VALUE!"},null,{"$error":"#VALUE!"},null,{"v":8500,"d":"8,500р."},{"v":0,"d":"0.00р."}]
[29,"Брус 200*200*6000",4.1,0.24,"от 19000",{"$error":"#VALUE!"},null,{"$error":"#VALUE!"},null,{"v":8500,"d":"8,500р."},{"v":0,"d":"0.00р."}]
[{"$nulls":6},"Общая сумма",{"$f":"SUM(H7:H37)","v":{"$error":"#VALUE!"}},"Общая сумма",null,{"$f":"SUM(K7:K37)","v":{"$error":"#VALUE!"}}]
[{"$nulls":6},"-",null,"ИТОГО СУММА",null,{"$f":"H38+K38","v":{"$error":"#VALUE!"}}]

{"sheet":"Доска строг","index":3,"n_rows":25,"n_cols":9,"rows_kept":25,"merged":[[18,0,18,3]]}
["ДОСКА СУХАЯ СТРОГАННАЯ",{"$nulls":4},"на главную страницу"]
["№","Наименование","Кол-во досок в м3","Цена, руб/шт","Кол-во заказа, шт","Сумма, руб","Объем заказа, м3","Цена за м3, руб","Сумма, руб/м3"]
[{"$nulls":4},"Напишите         кол-во заказа        в шт",null,"Напишите        кол-во заказа в м3"]
[1,"Доска сухая строганная 20*90*3000 ",{"$f":"1/0.02/0.1/3","v":{"v":166.66666666666666,"d":"167"}},{"v":210,"d":"210р."},null,{"$f":"D4*E4","v":{"v":0,"d":"0.00р."}}]
[2,"Доска сухая строганная 20*90*6000 ",{"$f":"1/0.02/0.1/6","v":{"v":83.33333333333333,"d":"83"}},{"v":420,"d":"420р."},null,{"v":0,"d":"0.00р."}]
[3,"Доска сухая строганная 20*120*6000 ",{"$f":"1/0.018/0.12/6","v":{"v":77.1604938271605,"d":"77"}},{"v":450,"d":"450р."},null,{"$f":"D6*E6","v":{"v":0,"d":"0.00р."}}]
[4,"Доска сухая строганная 20*140*6000 ",{"$f":"1/0.02/0.14/6","v":{"v":59.52380952380952,"d":"60"}},{"v":590,"d":"590р."},null,{"v":0,"d":"0.00р."}]
[5,"Доска сухая строганная 25*125*6000 ",{"$f":"1/0.025/0.125/6","v":{"v":53.333333333333336,"d":"53"}},{"v":430,"d":"430р."},null,{"v":0,"d":"0.00р."}]
[6,"Доска сухая строганная 35*140*6000 ",{"$f":"1/0.035/0.14/6","v":{"v":34.01360544217686,"d":"34"}},{"v":1030,"d":"1,030р."},null,{"v":0,"d":"0.00р."}]
[7,"Доска сухая строганная 35*190*6000 ",{"$f":"1/0.035/0.19/6","v":{"v":25.062656641604008,"d":"25"}},{"v":1400,"d":"1,400р."},null,{"v":0,"d":"0.00р."}]
[8,"Доска сухая строганная 43*90*6000 ",{"$f":"1/0.043/0.09/6","v":{"v":43.06632213608958,"d":"43"}},{"v":810,"d":"810р."},null,{"v":0,"d":"0.00р."}]
[9,"Доска сухая строганная 43*140*6000 ",{"$f":"1/0.043/0.14/6","v":{"v":27.685492801771872,"d":"28"}},{"v":1250,"d":"1,250р."},null,{"v":0,"d":"0.00р."}]
[10,"Доска сухая строганная 43*190*6000 ",{"$f":"1/0.043/0.19/6","v":{"v":20.399836801305593,"d":"20"}},{"v":1750,"d":"1,750р."},null,{"v":0,"d":"0.00р."}]
[11,"Доска сухая 25*100*6000 ",{"v":66.66,"d":"67"},{"v":520,"d":"520р."},null,{"v":0,"d":"0.00р."}]
[12,"Доска сухая 25*150*6000 ",{"v":44.44,"d":"44"},{"v":790,"d":"790р."},null,{"v":0,"d":"0.00р."}]
[13,"Доска сухая 40*150*6000 ",{"v":27.77,"d":"28"},{"v":1250,"d":"1,250р."},null,{"$f":"D16*E16","v":{"v":0,"d":"0.00р."}},null,{"$f":"#REF!","v":{"$error":"#REF!"}},{"$f":"G16*H16","v":{"$error":"#REF!"}}]
[14,"Доска сухая 50*150*6000 ",{"v":22.22,"d":"22"},{"v":1590,"d":"1,590р."},null,{"v":0,"d":"0.00р."}]
[15,"Доска сухая 50*200*6000 ",{"v":16.66,"d":"17"},{"v":2100,"d":"2,100р."},null,{"v":0,"d":"0.00р."}]
["Брусок сухой строганный",{"$nulls":3},"-"]
[16,"Брусок 20*40*3000",{"$f":"1/0.02/0.04/3","v":{"v":416.6666666666667,"d":"417"}},{"v":90,"d":"90р."},null,{"$f":"D20*E20","v":{"v":0,"d":"0.00р."}}]
[17,"Брусок 40*40*3000",{"$f":"1/0.04/0.04/3","v":{"v":208.33333333333334,"d":"208"}},{"v":170,"d":"170р."},null,{"$f":"D21*E21","v":{"v":0,"d":"0.00р."}}]
[18,"Брусок 40*50*3000",{"$f":"1/0.04/0.05/3","v":{"v":166.66666666666666,"d":"167"}},{"v":220,"d":"220р."},null,{"v":0,"d":"0.00р."}]
[19,"Брусок 50*50*3000",{"$f":"1/0.05/0.05/3","v":{"v":133.33333333333334,"d":"133"}},{"v":270,"d":"270р."},null,{"v":0,"d":"0.00р."}]
[20,"Брусок 50*70*3000",{"$f":"1/0.05/0.07/3","v":{"v":95.23809523809523,"d":"95"}},{"v":390,"d":"390р."},null,{"v":0,"d":"0.00р."}]
[{"$nulls":4},"Общая сумма",{"$f":"SUM(F4:F24)","v":{"v":0,"d":"0.00р."}}]

{"sheet":"Раублок-хаус, Шпунт","index":4,"n_rows":18,"n_cols":12,"rows_kept":18,"merged":[[1,10,1,12],[3,0,4,0],[3,1,4,3],[3,4,4,4],[3,7,3,8],[3,9,4,9],[3,11,4,11],[5,0,5,4],[6,1,6,3],[7,1,7,3],[8,0,8,4],[9,1,9,3],[10,0,10,4],[11,1,11,3],[12,1,12,3],[13,1,13,3],[15,1,16,1]]}
[]
["ИМИТАЦИЯ БРУСА/СРУБА",{"$nulls":9},"на главную страницу"]
["ДОСКА ПОЛА ШПУНТОВАННАЯ"]
["№","Наименование",null,null,"Цена за м2, руб","Кол-во заказа, м2","Сумма, руб","Упаковка",null,"Цена за упаковку, руб","Кол-во заказа, упак.","Сумма, руб"]
[{"$nulls":5},"написать кол-во м2",null,"шт","м2",null,"написать           кол-во упак."]
["Имитация бруса (рау-хаус) сорт АВ ",{"$nulls":4},"-",{"$nulls":4},"-"]
[1,"Рау-хаус 16*135*6000 ",null,null,650,null,{"$f":"E7*F7","v":{"v":0,"d":"0.00р."}},7,{"$f":"H7*0.135*6","v":5.67},{"$f":"E7*I7","v":{"v":3685.5,"d":"3,686р."}},null,{"$f":"J7*K7","v":{"v":0,"d":"0.00р."}}]
[2,"Рау-хаус 21*185*6000 ",null,null,850,null,{"v":0,"d":"0.00р."},5,{"$f":"H8*0.185*6","v":5.550000000000001},{"v":4717.500000000001,"d":"4,718р."},null,{"v":0,"d":"0.00р."}]
["Имитация сруба (блок-хаус) сорт АВ ",{"$nulls":4},"-",{"$nulls":4},"-"]
[3,"Блок-хаус 36*185*6000","36*185*6000","АВ",1450,null,{"v":0,"d":"0.00р."},2,{"$f":"H10*0.185*6","v":2.2199999999999998},{"v":3218.9999999999995,"d":"3,219р."},null,{"$f":"J10*K10","v":{"v":0,"d":"0.00р."}}]
["Доска пола шпунтованная, сорт АВ ",{"$nulls":4},"-",{"$nulls":4},"-"]
[4,"Доска пола 27*130*6000","27*130*6000","АВ",1000,null,{"v":0,"d":"0.00р."},1,{"$f":"H12*0.13*6","v":0.78},{"v":780,"d":"780р."},null,{"$f":"J12*K12","v":{"v":0,"d":"0.00р."}}]
[5,"Доска пола 36*130*6000","36*130*6000","АВ",1250,null,{"$f":"E13*F13","v":{"v":0,"d":"0.00р."}},1,{"$f":"H13*0.13*6","v":0.78},{"$f":"E13*I13","v":{"v":975,"d":"975р."}},null,{"$f":"J13*K13","v":{"v":0,"d":"0.00р."}}]
[6,"Доска пола 44*130*6000","44*130*6000","АВ",1500,null,{"v":0,"d":"0.00р."},1,{"$f":"H14*0.13*6","v":0.78},{"v":1170,"d":"1,170р."},null,{"v":0,"d":"0.00р."}]
[{"$nulls":5},"Общая сумма",{"$f":"SUM(G7:G14)","v":{"v":0,"d":"0.00р."}},{"$nulls":3},"Общая сумма",{"$f":"SUM(L7:L14)","v":{"v":0,"d":"0.00р."}}]
[]
[{"$nulls":5},"-",{"$nulls":4},"ИТОГО СУММА",{"$f":"G15+L15","v":{"v":0,"d":"0.00 р."}}]
[{"$nulls":3}," "]

{"sheet":"Вагонка","index":5,"n_rows":17,"n_cols":15,"rows_kept":17,"merged":[[0,13,0,16],[2,0,4,0],[2,1,4,3],[2,4,4,4],[2,7,2,11],[2,14,4,14],[3,5,4,5],[3,12,4,12],[3,13,4,13],[5,7,5,11],[6,1,6,3],[7,1,7,3],[8,1,8,3],[9,1,9,3],[10,1,10,3],[11,1,11,3],[12,1,12,3],[13,1,13,3],[14,1,14,3],[15,1,15,3]]}
[{"$nulls":13},"на главную страницу"]
["ЕВРОВАГОНКА ДОЗ \"Архангельский\""]
["№","Наименование",null,null,"Цена, руб/м2","Кол-во заказа, м2","Сумма, руб","Цена за упаковку, руб",{"$nulls":4},"Расчет кол-ва упак.","Итоговое          кол-во упак.","Итоговая сумма с учетом кратности упаковок, руб"]
[{"$nulls":5},"ниже впишите        кол-во м2","Длина","1,80 м","2,10 м","2,40 м","2,70 м","3,00 м"]
[{"$nulls":6},"Кол-во м2  в упак. (10 шт)",1.728,2.016,2.304,2.592,{"v":2.88,"d":"2.880"}]
[{"$nulls":5},"-",null,"ВЫБЕРИТЕ НУЖНУЮ ДЛИНУ",{"$nulls":4},"-","-"]
[1,"Евровагонка (ель, сосна) 13мм*96мм  без сучков, цельная Сорт Экстра",null,null,1000,null,{"$f":"E7*F7","v":{"v":0,"d":"0.00р."}},{"$f":"1.728*E7","v":{"v":1728,"d":"1,728.00 "}},{"$f":"2.016*E7","v":{"v":2016,"d":"2,016.00 "}},{"$f":"2.304*E7","v":{"v":2304,"d":"2,304.00 "}},{"$f":"2.592*E7","v":{"v":2592,"d":"2,592.00 "}},{"$f":"2.88*E7","v":{"v":2880,"d":"2,880.00 "}},{"$f":"F7/teh!L1","v":{"v":0,"d":"0.00000"}},{"$f":"ROUNDUP(M7,0)","v":0},{"$f":"N7*teh!L2","v":{"v":0,"d":"0.00р."}}]
[2,"Евровагонка (ель, сосна) 13мм*96мм сорт А",null,null,500,null,{"$f":"E8*F8","v":{"v":0,"d":"0.00р."}},{"$f":"1.728*E8","v":{"v":864,"d":"864.00 "}},{"$f":"2.016*E8","v":{"v":1008,"d":"1,008.00 "}},{"$f":"2.304*E8","v":{"v":1152,"d":"1,152.00 "}},{"$f":"2.592*E8","v":{"v":1296,"d":"1,296.00 "}},{"$f":"2.88*E8","v":{"v":1440,"d":"1,440.00 "}},{"$f":"F8/teh!L3","v":{"v":0,"d":"0.00000"}},{"$f":"ROUNDUP(M8,0)","v":0},{"$f":"N8*teh!L4","v":{"v":0,"d":"0.00р."}}]
[3,"Евровагонка (ель, сосна) 13мм*96мм сорт В",null,null,450,null,{"v":0,"d":"0.00р."},{"v":777.6,"d":"777.60 "},{"v":907.2,"d":"907.20 "},{"v":1036.8,"d":"1,036.80 "},{"v":1166.4,"d":"1,166.40 "},{"v":1296,"d":"1,296.00 "},{"$f":"F9/teh!L5","v":{"v":0,"d":"0.00000"}},0,{"$f":"N9*teh!L6","v":{"v":0,"d":"0.00р."}}]
[4,"Евровагонка (ель, сосна) 13мм*96мм сорт С",null,null,250,null,{"v":0,"d":"0.00р."},{"v":432,"d":"432.00 "},{"v":504,"d":"504.00 "},{"v":576,"d":"576.00 "},{"v":648,"d":"648.00 "},{"v":720,"d":"720.00 "},{"$f":"F10/teh!L7","v":{"v":0,"d":"0.00000"}},0,{"$f":"N10*teh!L8","v":{"v":0,"d":"0.00р."}}]
[5,"Евровагонка (лиственница) 13мм*96мм сорт АВ",null,null,750,null,{"v":0,"d":"0.00р."},{"v":1296,"d":"1,296.00 "},{"v":1512,"d":"1,512.00 "},{"v":1727.9999999999998,"d":"1,728.00 "},{"v":1944,"d":"1,944.00 "},{"v":2160,"d":"2,160.00 "},{"$f":"F11/teh!L9","v":{"v":0,"d":"0.00000"}},0,{"$f":"N11*teh!L10","v":{"v":0,"d":"0.00р."}}]
[6,"Евровагонка (осина) 13мм*96мм сорт Экстра/А",null,null,600,null,{"v":0,"d":"0.00р."},{"v":1036.8,"d":"1,036.80 "},{"v":1209.6,"d":"1,209.60 "},{"v":1382.3999999999999,"d":"1,382.40 "},{"v":1555.2,"d":"1,555.20 "},{"v":1728,"d":"1,728.00 "},{"$f":"F12/teh!L11","v":{"v":0,"d":"0.00000"}},0,{"$f":"N12*teh!L12","v":{"v":0,"d":"0.00р."}}]
[7,"Евровагонка (осина) 13мм*96мм Сорт В",null,null,450,null,{"v":0,"d":"0.00р."},{"v":777.6,"d":"777.60 "},{"v":907.2,"d":"907.20 "},{"v":1036.8,"d":"1,036.80 "},{"v":1166.4,"d":"1,166.40 "},{"v":1296,"d":"1,296.00 "},{"$f":"F13/teh!L13","v":{"v":0,"d":"0.00000"}},0,{"$f":"N13*teh!L14","v":{"v":0,"d":"0.00р."}}]
[8,"Евровагонка (липа) 13мм*96мм Сорт Экстра/А",null,null,1000,null,{"v":0,"d":"0.00р."},{"v":1728,"d":"1,728.00 "},{"v":2016,"d":"2,016.00 "},{"v":2304,"d":"2,304.00 "},{"v":2592,"d":"2,592.00 "},{"v":2880,"d":"2,880.00 "},{"$f":"F14/teh!L15","v":{"v":0,"d":"0.00000"}},0,{"$f":"N14*teh!L16","v":{"v":0,"d":"0.00р."}}]
[9,"Евровагонка (липа) 13мм*96мм Сорт В",null,null,800,null,{"v":0,"d":"0.00р."},{"v":1382.4,"d":"1,382.40 "},{"v":1612.8,"d":"1,612.80 "},{"v":1843.1999999999998,"d":"1,843.20 "},{"v":2073.6,"d":"2,073.60 "},{"v":2304,"d":"2,304.00 "},{"$f":"F15/teh!L17","v":{"v":0,"d":"0.00000"}},0,{"$f":"N15*teh!L18","v":{"v":0,"d":"0.00р."}}]
[10,"Евровагонка (липа) 13мм*96мм Сорт С",null,null,350,null,{"v":0,"d":"0.00р."},{"v":604.8,"d":"604.80 "},{"v":705.6,"d":"705.60 "},{"v":806.4,"d":"806.40 "},{"v":907.2,"d":"907.20 "},{"v":1008,"d":"1,008.00 "},{"$f":"F16/teh!L19","v":{"v":0,"d":"0.00000"}},0,{"$f":"N16*teh!L20","v":{"v":0,"d":"0.00р."}}]
[{"$nulls":5},"-",{"$nulls":7},"Общая сумма",{"$f":"SUM(O6:O16)","v":{"v":0,"d":"0.00р."}}]

{"sheet":"Погонаж","index":6,"n_rows":20,"n_cols":12,"rows_kept":20,"merged":[[28,10,29,11]]}
[]
["РЕЙКА, ПЛИНТУС, УГОЛОК, ОБКЛАДКА",{"$nulls":8},"на главную страницу"]
[]
["№","Наименование","Размеры, мм","Ед. изм.","Кол-во заказа, пог.м","Цена, руб/пог.м","Сумма, руб","Кол-во заказа, в шт","Цена, руб/шт","Сумма, руб"]
[{"$nulls":4},"впишите         кол-во заказа в пог м",null,null,"впишите         кол-во заказа в шт"]
[1,"Рейка сращенная бессучковая (нащельник) экстра","6*32*2100","шт",null,{"v":65,"d":"65р."},{"$f":"E6*F6","v":{"v":0,"d":"0.00р."}},null,{"v":50,"d":"50р."},{"$f":"I6*H6","v":{"v":0,"d":"0.00р."}}]
[2,"Плинтус сращенный бессучковый экстра","27*2500","шт",null,{"v":75,"d":"75р."},{"$f":"E7*F7","v":{"v":0,"d":"0.00р."}},null,{"v":50,"d":"50р."},{"$f":"I7*H7","v":{"v":0,"d":"0.00р."}}]
[3,"Плинтус сращенный бессучковый экстра","45*2500","шт",null,{"v":100,"d":"100р."},{"v":0,"d":"0.00р."},null,{"v":60,"d":"60р."},{"v":0,"d":"0.00р."}]
[4,"Плинтус сращенный бессучковый экстра","55*2500 ","шт",null,{"v":120,"d":"120р."},{"v":0,"d":"0.00р."},null,{"v":70,"d":"70р."},{"v":0,"d":"0.00р."}]
[5,"Плинтус сращенный бессучковый (сапожок) экстра","65*2500","шт",null,{"v":120,"d":"120р."},{"v":0,"d":"0.00р."},null,{"v":60,"d":"60р."},{"v":0,"d":"0.00р."}]
[6,"Плинтус сращенный бессучковый 2сорт","45*2500","шт",null,{"v":50,"d":"50р."},{"v":0,"d":"0.00р."},null,{"v":40,"d":"40р."},{"v":0,"d":"0.00р."}]
[7,"Плинтус сращенный бессучковый 2сорт","55*2500","шт",null,{"v":50,"d":"50р."},{"v":0,"d":"0.00р."},null,{"v":40,"d":"40р."},{"v":0,"d":"0.00р."}]
[8,"Плинтус сращенный бессучковый (сапожок) 2 сорт","65*2500","шт",null,{"v":50,"d":"50р."},{"v":0,"d":"0.00р."},null,{"v":40,"d":"40р."},{"v":0,"d":"0.00р."}]
[9,"Уголок сращенный бессучковый","30*30*2500","шт",null,{"v":150,"d":"150р."},{"v":0,"d":"0.00р."},null,{"v":100,"d":"100р."},{"v":0,"d":"0.00р."},null,"   "]
[10,"Уголок сращенный бессучковый","40*40*2500","шт",null,{"v":200,"d":"200р."},{"v":0,"d":"0.00р."},null,{"v":130,"d":"130р."},{"v":0,"d":"0.00р."}]
[11,"Обкладка сращенная бессучковая","10*65*2200","шт",null,{"v":150,"d":"150р."},{"v":0,"d":"0.00р."},null,{"v":70,"d":"70р."},{"v":0,"d":"0.00р."}]
[12,"Обкладка сращенная бессучковая","10*90*2200","шт",null,{"v":200,"d":"200р."},{"v":0,"d":"0.00р."},null,{"v":110,"d":"110р."},{"v":0,"d":"0.00р."}]
[{"$nulls":4},"Общая сумма",null,{"$f":"SUM(G5:G17)","v":{"v":0,"d":"0.00р."}},"Общая сумма",null,{"$f":"SUM(J5:J17)","v":{"v":0,"d":"0.00р."}}]
[]
[{"$nulls":4},"-",null,null,"ИТОГО СУММА",{"$f":"G18+J18","v":{"v":0,"d":"0.00р."}}]

{"sheet":"OSB","index":7,"n_rows":12,"n_cols":8,"rows_kept":12,"merged":[[1,5,1,7]]}
[]
["OSB-3 (ОСП - ОРИЕНТИРОВАНО-СТРУЖЕЧНЫЕ ПЛИТЫ)",{"$nulls":4},"на главную страницу"]
[]
["№","Наименование","Размер листа, мм","Кол-во листов в пачке","Площадь листа, м2","Цена за лист, руб","Кол-во заказа","Сумма, руб"]
[{"$nulls":6},"-"]
[1,"Плита ОSB-3  9мм Кроношпан Егорьевск","2440 х 1220 х 9",72,2.988,{"v":1600,"d":"1,600р."},null,{"$f":"F6*G6","v":{"v":0,"d":"0.00р."}}]
[2,"Плита ОSB-3  9мм Кronospan Белоруссия","2500 х 1250 х 9",78,3.125,{"v":1750,"d":"1,750р."},null,{"v":0,"d":"0.00р."}]
[3,"Плита ОSB-3 12мм Kronospan Белоруссия","2500 х 1250 х 12",60,3.125,{"v":2250,"d":"2,250р."},null,{"v":0,"d":"0.00р."}]
[5,"Плита ОSB-3 15мм Kronospan Белоруссия","2500 х 1250 х 15",48,3.125,{"v":2800,"d":"2,800р."},null,{"v":0,"d":"0.00р."}]
[6,"Плита ОSB-3 18мм Kronospan Белоруссия","2500 х 1250 х 18",39,3.125,{"v":3350,"d":"3,350р."},null,{"v":0,"d":"0.00р."}]
[7,"Плита ОSB-3 22мм Kronospan Белоруссия","2500 х 1250 х 22",32,3.125,{"v":4100,"d":"4,100р."},null,{"v":0,"d":"0.00р."}]
[{"$nulls":6},"Общая сумма",{"$f":"SUM(H5:H11)","v":{"v":0,"d":"0.00р."}}]

{"sheet":"Фанера","index":8,"n_rows":24,"n_cols":7,"rows_kept":24,"merged":[[1,0,1,3],[3,3,3,4],[4,0,4,4],[5,3,5,4],[6,3,6,4],[7,3,7,4],[8,3,8,4],[9,3,9,4],[10,3,10,4],[11,3,11,4],[12,3,12,4],[13,3,13,4],[14,0,14,4],[15,3,15,4],[16,3,16,4],[17,3,17,4],[18,3,18,4],[19,3,19,4],[20,3,20,4],[21,0,21,4],[22,3,22,4]]}
[{"$nulls":6},"на главную страницу"]
["Фанера ФК, ФСФ, Ламинированная"]
[]
["№","Наименование","Ед. изм.","Цена за лист, руб",null,"Кол-во заказа","Сумма, руб"]
["ФАНЕРА березовая марки ФК Сорт 3/4,4/4  ГОСТ 3916.1-96",{"$nulls":4},"-"]
[1,"Фанера  4мм*1,525*1,525  ","лист",{"v":570,"d":"570р."},null,null,{"$f":"D6*F6","v":{"v":0,"d":"0.00р."}}]
[2,"Фанера  6мм*1,525*1,525  ","лист",{"v":750,"d":"750р."},null,null,{"v":0,"d":"0.00р."}]
[3,"Фанера  8мм*1,525*1,525  ","лист",{"v":1050,"d":"1,050р."},null,null,{"v":0,"d":"0.00р."}]
[4,"Фанера  9мм*1,525*1,525  ","лист",{"v":1150,"d":"1,150р."},null,null,{"v":0,"d":"0.00р."}]
[5,"Фанера 10мм*1,525*1,525 ","лист",{"v":1250,"d":"1,250р."},null,null,{"v":0,"d":"0.00р."}]
[6,"Фанера 12мм*1,525*1,525 ","лист",{"v":1400,"d":"1,400р."},null,null,{"v":0,"d":"0.00р."}]
[7,"Фанера 15мм*1,525*1,525 ","лист",{"v":1800,"d":"1,800р."},null,null,{"v":0,"d":"0.00р."}]
[8,"Фанера 18мм*1,525*1,525 ","лист",{"v":2100,"d":"2,100р."},null,null,{"v":0,"d":"0.00р."}]
[9,"Фанера 21мм*1,525*1,525 ","лист",{"v":2600,"d":"2,600р."},null,null,{"v":0,"d":"0.00р."}]
["ФАНЕРА березовая марки ФСФ сорт 4/4 ГОСТ 3916.1-96",{"$nulls":4},"-"]
[10,"Фанера  6мм*2,440*1,220","лист",{"v":1550,"d":"1,550р."},null,null,{"$f":"D16*F16","v":{"v":0,"d":"0.00р."}}]
[11,"Фанера  9мм*2,440*1,220","лист",{"v":2150,"d":"2,150р."},null,null,{"v":0,"d":"0.00р."}]
[12,"Фанера  12мм*2,440*1,220 ","лист",{"v":2700,"d":"2,700р."},null,null,{"v":0,"d":"0.00р."}]
[13,"Фанера  15мм*2,440*1,220 ","лист",{"v":3100,"d":"3,100р."},null,null,{"v":0,"d":"0.00р."}]
[14,"Фанера  18мм*2,440*1,220 ","лист",{"v":3700,"d":"3,700р."},null,null,{"v":0,"d":"0.00р."}]
[15,"Фанера  21мм*2,440*1,220 ","лист",{"v":4450,"d":"4,450р."},null,null,{"v":0,"d":"0.00р."}]
["ФАНЕРА ламинированная ",{"$nulls":4},"-"]
[16,"Фанера лам. 2400*1220*18 мм Береза сорт 1/1","лист",{"v":4500,"d":"4,500р."},null,null,{"$f":"D23*F23","v":{"v":0,"d":"0.00р."}}]
[{"$nulls":5},"Общая сумма",{"$f":"SUM(G6:G23)","v":{"v":0,"d":"0.00р."}}]

{"sheet":"ЦСП ГСП","index":9,"n_rows":21,"n_cols":6,"rows_kept":21,"merged":[[0,4,0,5],[4,0,4,3],[11,0,11,3]]}
[{"$nulls":4},"на главную страницу"]
["ЦСП (Цементно/Гипсо-Стружечные Плиты)"]
[]
["№","Наименование","Ед. изм.","Цена за лист, руб","Кол-во заказа","Сумма, руб"]
["ЦСП (Цементно-стружечные плиты)",{"$nulls":3},"-"]
[1,"ЦСП   8мм*3,200х1,250 ","лист",{"v":670,"d":"670р."},null,{"$f":"D6*E6","v":{"v":0,"d":"0.00р."}}]
[2,"ЦСП  10мм*3,200х1,250 ","лист",{"v":790,"d":"790р."},null,{"v":0,"d":"0.00р."}]
[3,"ЦСП  12мм*3,200х1,250 ","лист",{"v":895,"d":"895р."},null,{"v":0,"d":"0.00р."}]
[4,"ЦСП  16мм*3,200х1,250 ","лист",{"v":1120,"d":"1,120р."},null,{"v":0,"d":"0.00р."}]
[5,"ЦСП  20мм*3,200х1,250","лист",{"v":1365,"d":"1,365р."},null,{"v":0,"d":"0.00р."}]
[6,"ЦСП  24мм*3,200х1,250 ","лист",{"v":1600,"d":"1,600р."},null,{"v":0,"d":"0.00р."}]
["ГСП (Гипсо-стружечные плиты)",{"$nulls":3},"-"]
[8,"ГСП 10 мм *2.500х1.250  ПК/ФК","лист",{"v":480,"d":"480р."},null,{"$f":"D13*E13","v":{"v":0,"d":"0.00р."}}]
[9,"ГСП 10 мм *3000х1.250  ПК/ФК","лист",{"v":525,"d":"525р."},null,{"v":0,"d":"0.00р."}]
[10,"ГСП 12 мм *2.500х1.250  ПК/ФК","лист",{"v":520,"d":"520р."},null,{"v":0,"d":"0.00р."}]
[11,"ГСП 12 мм *3.000х1.250  ПК/ФК","лист",{"v":600,"d":"600р."},null,{"v":0,"d":"0.00р."}]
[13,"ГСПВ 10 мм *2.500х1.250  ПК/ФК","лист",{"v":500,"d":"500р."},null,{"v":0,"d":"0.00р."}]
[14,"ГСПВ 10 мм *3.000х1.250  ПК/ФК","лист",{"v":580,"d":"580р."},null,{"v":0,"d":"0.00р."}]
[15,"ГСПВ 12мм*2.500х1.250 ПК/ФК","лист",{"v":670,"d":"670р."},null,{"v":0,"d":"0.00р."}]
[16,"ГСПВ 12 мм *3.000х1.250  ПК/ФК","лист",{"v":660,"d":"660р."},null,{"v":0,"d":"0.00р."}]
[{"$nulls":4},"Общая сумма",{"$f":"SUM(F6:F20)","v":{"v":0,"d":"0.00р."}}]

{"sheet":"ГКЛ","index":10,"n_rows":10,"n_cols":7,"rows_kept":10,"merged":[[0,0,0,1],[0,3,0,6],[2,0,3,0],[2,1,3,1],[2,2,3,2],[2,3,3,4],[2,5,3,5],[2,6,3,6],[4,0,4,4],[5,3,5,4],[6,3,6,4],[7,3,7,4],[8,3,8,4]]}
["ГКЛ",null,null,"на главную страницу"]
[]
["№","Наименование товаров","Ед. изм.","Цена за лист, руб",null,"Кол-во заказа","Сумма, руб"]
[]
["Гипсокартон Волма",{"$nulls":4},"-"]
[1,"ГКЛ 2500*1200*9,5 стандарт","лист",{"v":185,"d":"185р."},null,null,{"$f":"D6*F6","v":{"v":0,"d":"0.00р."}}]
[2,"ГКЛ 2500*1200*12,5 стандарт","лист",{"v":195,"d":"195р."},null,null,{"v":0,"d":"0.00р."}]
[3,"ГКЛ 2500*1200*9,5 влаг","лист",{"v":285,"d":"285р."},null,null,{"v":0,"d":"0.00р."}]
[4,"ГКЛ 2500*1200*12,5 влаг","лист",{"v":295,"d":"295р."},null,null,{"v":0,"d":"0.00р."}]
[{"$nulls":5},"Общая сумма",{"$f":"SUM(G6:G9)","v":{"v":0,"d":"0.00р."}}]

{"sheet":"ДВП ДСП","index":11,"n_rows":9,"n_cols":6,"rows_kept":9,"merged":[[0,0,0,1],[0,2,0,5]]}
["ДВП, ДСП",null,"на главную страницу"]
[]
[null,"НАИМЕНОВАНИЕ","Площадь листа, м2","Цена за лист, руб","Кол-во заказа","Сумма, руб"]
[{"$nulls":4},"-"]
[1,"ДВП 2440*1220*3,2 ТС-20 1 сорт",2.98,{"v":160,"d":"160р."},null,{"$f":"E5*D5","v":{"v":0,"d":"0.00р."}}]
[2,"ДВП 2745*1220*3,2 ТС-20 1 сорт",3.35,{"v":190,"d":"190р."},null,{"$f":"E6*D6","v":{"v":0,"d":"0.00р."}}]
[3,"ДВП 2745*1700*3,2 НТ 1 сорт",4.67,{"v":230,"d":"230р."},null,{"v":0,"d":"0.00р."}]
[4,"ДСП 2500*1850*16мм Шарья",4.625,{"v":880,"d":"880р."},null,{"v":0,"d":"0.00р."}]
[{"$nulls":4},"Общая сумма",{"$f":"SUM(F4:F8)","v":{"v":0,"d":"0.00р."}}]

{"sheet":"Утеп-ли","index":12,"n_rows":31,"n_cols":9,"rows_kept":31,"merged":[[1,6,1,8],[3,0,4,0],[3,1,4,1],[3,2,4,2],[3,3,4,3],[3,4,4,4],[3,5,4,5],[3,6,4,6],[3,7,4,7],[3,8,4,8],[5,0,5,6],[5,16,5,17],[6,0,7,0],[6,1,7,1],[6,16,6,17],[8,0,9,0],[8,1,9,1],[10,0,10,6],[11,0,12,0],[11,1,12,1],[16,0,17,0],[16,1,17,1],[20,0,20,6],[25,0,25,6],[26,6,29,6]]}
[]
["УТЕПЛИТЕЛИ, ПЕНОПЛАСТ, ФОЛЬГА",{"$nulls":5},"на главную страницу"]
[]
["№","Наименование","Толщина мм","Размер, мм (ДхШхТ)","Плотность кг/мЗ","Цена за упаковку","Примечание","Количество заказа ","Сумма, руб"]
[]
["Базальтовый утеплитель ТехноНИКОЛЬ",{"$nulls":6},"-"]
[1,"РОКЛАЙТ","50","1200x600x50","35",{"v":425,"d":"425р."},"в пачке 8 плит, 0,288м3, 5,76м2",null,{"$f":"F7*H7","v":{"v":0,"d":"0.00р."}}]
[null,null,"100","1200x600x100","35",{"v":625,"d":"625р."},"в пачке 6 плит, 0,432м3, 2,88м2",null,{"$f":"F7*H8","v":{"v":0,"d":"0.00р."}}]
[2,"ТЕХНОБЛОК","50","1200x600x50",45,{"v":550,"d":"550р."},"в пачке 8 плит, 0,288м3, 5,76м2",null,{"$f":"F7*H9","v":{"v":0,"d":"0.00р."}}]
[null,null,"100","1200x600x100",45,{"v":550,"d":"550р."},"в пачке 4 плит, 0,2,88м3, 2,88м2",null,{"$f":"F7*H10","v":{"v":0,"d":"0.00р."}}]
["KNAUF",{"$nulls":6},"-"]
[7,"Для коттеджа плита 037",50,"1230х610х50",null,{"v":850,"d":"850р."},"в пачке 16 плит, 0,6м3, 12м2",null,{"$f":"F12*H12","v":{"v":0,"d":"0.00р."}}]
[null,null,100,"1230х610х100",null,{"v":850,"d":"850р."},"в пачке 8 плит, 0,6м3, 6м2",null,{"$f":"F13*H13","v":{"v":0,"d":"0.00р."}}]
[8,"Для кровли ролл 037",150,"1220*5500*150",null,{"v":1420,"d":"1,420р."},"в пачке 1 плита 1м3, 6,7м2",null,{"$f":"F14*H14","v":{"v":0,"d":"0.00р."}}]
[9,"Для кровли ролл 037",50,"1220*6148*50",null,{"v":1210,"d":"1,210р."},"в пачке 2 плиты, 0,75м3, 15м2",null,{"$f":"F15*H15","v":{"v":0,"d":"0.00р."}}]
[10,"Для перекрытий ролл 040",50,"1220*7380*50",null,{"v":1120,"d":"1,120р."},"в пачке 2 плиты, 0,9м3, 18м2",null,{"$f":"F16*H16","v":{"v":0,"d":"0.00р."}}]
[11,"Кнауф Экоролл TS 040 плита",50,"610*1230*50",null,{"v":650,"d":"650р."},"в пачке 16 плит, 0,6м3, 12м2",null,{"$f":"F17*H17","v":{"v":0,"d":"0.00р."}}]
[null,null,100,"610*1230*100",null,{"v":650,"d":"650р."},"в пачке 8 плит, 0,6м3, 6м2",null,{"v":0,"d":"0.00р."}]
[12,"Кнауф Экоролл 044 рулон",50,"1220*8200*50",null,{"v":1000,"d":"1,000р."},"в пачке 2 плиты 1м3, 20м2",null,{"v":0,"d":"0.00р."}]
[13,"АкустиКНАУФ AS 037 плита",50,"610*1230*50",null,{"v":900,"d":"900р."},"в пачке 16 плит, 0,6м3, 12м2",null,{"$f":"F20*H20","v":{"v":0,"d":"0.00р."}}]
["Пенопласт",{"$nulls":6},"-"]
[14,"Пенопласт ПСБ-С-15","5см","1000х1000*50",null,{"v":75,"d":"75р."},"хорошая звукоизоляция;",null,{"$f":"F22*H22","v":{"v":0,"d":"0.00р."}}]
[15,"Пенопласт ПСБ-С-15","10см","1000х1000*100",null,{"v":150,"d":"150р."},"низкий показатель термопроводности, который варьирует от 0,037 до 0,041 Вт/мК;",null,{"$f":"F23*H23","v":{"v":0,"d":"0.00р."}}]
[16,"Пенопласт ПСБ-С-25","5см","1000х1000*50",null,{"v":150,"d":"150р."},"плотность (отношение веса к объему) находится в пределах от 15 до 35 кг/м3;",null,{"v":0,"d":"0.00р."}]
[17,"Пенопласт ПСБ-С-25","10см","1000х1000*100",null,{"v":300,"d":"300р."},"высокий уровень паропроницаемости материала, что помогает удалению избытка влаги;",null,{"v":0,"d":"0.00р."}]
["Фольга алюминиевая",{"$nulls":6},"-"]
[18,"Фольга алюминиевая","50мкн","5м2",null,{"v":270,"d":"270р."},"Экологически чистая сверхпрочная полированная алюминиевая фольга применяется для бань, саун, изоляции труб, сантехнических систем, зданий и сооружений.",null,{"$f":"F27*H27","v":{"v":0,"d":"0.00р."}}]
[19,"Фольга алюминиевая","50мкн","10м2",null,{"v":530,"d":"530р."},null,null,{"$f":"F28*H28","v":{"v":0,"d":"0.00р."}}]
[20,"Фольга алюминиевая","50мкн","12м2",null,{"v":560,"d":"560р."},null,null,{"v":0,"d":"0.00р."}]
[21,"Фольга алюминиевая","50мкн","20м2",null,{"v":1050,"d":"1,050р."},null,null,{"v":0,"d":"0.00р."}]
[{"$nulls":7},"Общая сумма",{"$f":"SUM(I7:I30)","v":{"v":0,"d":"0.00р."}}]

{"sheet":"Пароизол","index":13,"n_rows":22,"n_cols":8,"rows_kept":22,"merged":[[1,5,1,7],[3,1,3,2],[4,0,4,7],[5,1,5,2],[6,1,6,2],[7,1,7,2],[7,5,8,5],[8,1,8,2],[9,0,9,7],[10,1,10,2],[11,1,11,2],[12,1,12,2],[13,1,13,2],[14,1,14,2],[15,0,15,7],[16,1,16,2],[17,1,17,2],[18,1,18,2],[19,1,19,2],[20,1,20,2]]}
[]
["ПАРОИЗОЛЯЦИОННЫЕ МАТЕРИАЛЫ",{"$nulls":4},"на главную страницу"]
[]
["№","Наименование",null,"Размер, м2","Цена, руб.","Примечание","кол-во заказа","Сумма"]
["ЭкоХаус"]
[1,"Мастер А",null,70,650,"ветро-влагозащита",null,{"v":0,"d":"0.00р."}]
[3,"Мастер В",null,70,550,"пароизоляция",null,{"v":0,"d":"0.00р."}]
[5,"Мастер С",null,70,700,"паро-гидроизоляция универ.",null,{"v":0,"d":"0.00р."}]
[6,"Мастер D",null,35,800,null,null,{"v":0,"d":"0.00р."}]
["АРДМАНОЛ"]
[1,"АРДМАНол А (1,6*38,5)",null,60,{"v":850,"d":"850р."},"ветро-влагозащита",null,{"$f":"E11*G11","v":{"v":0,"d":"0.00р."}}]
[2,"АРДМАНол В (1,6*38,5)",null,60,{"v":630,"d":"630р."},"пароизоляция",null,{"$f":"E12*G12","v":{"v":0,"d":"0.00р."}}]
[4,"АРДМАНол С (1,6*38,5)",null,60,{"v":880,"d":"880р."},"гидро-пароизоляция",null,{"v":0,"d":"0.00р."}]
[5,"АРДМАНол D (1,6*38,5)",null,60,{"v":960,"d":"960р."},"паро-гидроизоляция универ.",null,{"$f":"E14*G14","v":{"v":0,"d":"0.00р."}}]
[6,"АРДМАНол FS 1,5м",null,60,{"v":1075,"d":"1,075р."},"отражающая гидро-пароизоляция с эффектом энергосбережения",null,{"v":0,"d":"0.00р."}]
["Изоспан"]
[1,"Изоспан А",null,70,{"v":1830,"d":"1,830р."},null,null,{"v":0,"d":"0.00р."}]
[2,"Изоспан В",null,70,{"v":1300,"d":"1,300р."},null,null,{"v":0,"d":"0.00р."}]
[3,"Изоспан С",null,70,{"v":1630,"d":"1,630р."},null,null,{"v":0,"d":"0.00р."}]
[4,"Изоспан D",null,70,{"v":1760,"d":"1,760р."},null,null,{"v":0,"d":"0.00р."}]
[5,"Изоспан АМ",null,70,{"v":2700,"d":"2,700р."},null,null,{"v":0,"d":"0.00р."}]
[{"$nulls":6},"Общая сумма",{"$f":"SUM(H5:H21)","v":{"v":0,"d":"0.00р."}}]

{"sheet":"Крепеж","index":14,"n_rows":22,"n_cols":11,"rows_kept":22,"merged":[[2,0,3,0],[2,1,3,1],[2,2,3,4],[2,5,3,5],[2,6,3,6],[2,7,3,7],[2,8,3,8],[2,9,3,9],[2,10,3,10],[5,0,5,8],[6,2,6,4],[7,2,7,4],[8,2,8,4],[9,2,9,4],[10,0,10,8],[11,2,11,4],[12,2,12,4],[13,2,13,4],[14,2,14,4],[15,0,15,10],[16,2,16,4],[17,2,17,4],[18,2,18,3],[19,2,19,3],[20,2,20,4]]}
["Крепеж",{"$nulls":5},"на главную страницу",null,null,"на главную страницу"]
[]
["№","Наименование","Цена за шт, руб.",{"$nulls":5},"Ед. изм. ","Кол-во заказа","Сумма, руб"]
[]
[]
["Саморезы по дереву",{"$nulls":8},"-"]
[3,"Саморез 3,5*35 по дереву",{"v":0.5,"d":"0.50р."},{"$nulls":5},"шт",null,{"$f":"C7*J7","v":{"v":0,"d":"0.00р."}}]
[6,"Саморез 3,5*51 по дереву",{"v":0.65,"d":"0.65р."},{"$nulls":5},"шт",null,{"v":0,"d":"0.00р."}]
[10,"Саморез 4,2*76 по дереву",{"v":0.9,"d":"0.90р."},{"$nulls":5},"шт",null,{"v":0,"d":"0.00р."}]
[11,"Саморез 4,2*90 по дереву",{"v":1.15,"d":"1.15р."},{"$nulls":5},"шт",null,{"v":0,"d":"0.00р."}]
["Гвозди строительные оцинкованные"]
[20,"Гвозди 1,8*40 (финишные)",{"v":120,"d":"120р."},{"$nulls":5},"кг",null,{"$f":"C12*J12","v":{"v":0,"d":"0.00р."}}]
[21,"Гвозди 2,5*50",{"v":105,"d":"105р."},{"$nulls":5},"кг",null,{"v":0,"d":"0.00р."}]
[22,"Гвозди 2,5*60 (винтовые)",{"v":110,"d":"110р."},{"$nulls":5},"кг",null,{"v":0,"d":"0.00р."}]
[24,"Гвозди 3,5*90",{"v":95,"d":"95р."},{"$nulls":5},"кг",null,{"v":0,"d":"0.00р."}]
["Гвозди строительные"]
[1,"Гвозди строительные 80",{"v":85,"d":"85р."},{"$nulls":5},"кг",null,{"v":0,"d":"0.00р."}]
[2,"Гвозди строительные 100",{"v":90,"d":"90р."},{"$nulls":5},"кг",null,{"v":0,"d":"0.00р."}]
[3,"Гвозди строительные 120",{"v":95,"d":"95р."},{"$nulls":5},"кг",null,{"v":0,"d":"0.00р."}]
[4,"Гвозди строительные 150",{"v":95,"d":"95р."},{"$nulls":5},"кг",null,{"v":0,"d":"0.00р."}]
[5,"Гвозди строительные 200",{"v":105,"d":"105р."},{"$nulls":5},"кг",null,{"v":0,"d":"0.00р."}]
[{"$nulls":9},"Общая сумма",{"$f":"SUM(K7:K21)","v":{"v":0,"d":"0.00р."}}]

{"sheet":"Огнебио","index":15,"n_rows":38,"n_cols":7,"rows_kept":38,"merged":[[1,0,1,1],[1,2,1,6],[4,0,4,4],[5,0,5,4],[6,3,9,3],[10,0,10,4],[11,3,12,3],[13,0,13,4],[14,3,15,3],[16,0,16,4],[17,0,17,4],[18,3,20,3],[21,0,21,4],[22,3,24,3],[25,0,25,4],[26,3,28,3],[29,0,29,4],[30,3,32,3],[33,0,33,4],[34,3,36,3]]}
[]
["ЗАЩИТА ДЛЯ ДЕРЕВА \"ZELEST\"",null,"на главную страницу"]
[]
["№","Наименование","Ед. изм.","Характеристика","Цена, руб","Кол-во заказа","Сумма, руб"]
["Огне-биозащитные составы для комплексной защиты древесины",{"$nulls":4},"-"]
["Огне- биозащита ПРОФЕССИОНАЛЬНАЯ - I и II гр.",{"$nulls":4},"-"]
[1,"О-2-12 Зелест Огнепроф красный 12кг","канистра"," Комбинированное огне- биозащитное средство с усиленным огнезащитным действием. Обеспечивает 2 группы огнезащиты. Тонирует древесину для контроля качества огнезащиты.",{"v":800,"d":"800р."},null,{"$f":"E7*F7","v":{"v":0,"d":"0.00р."}}]
[2,"О-2-12 Зелест Огнепроф красный 25кг","канистра",null,{"v":1560,"d":"1,560р."},null,{"$f":"E8*F8","v":{"v":0,"d":"0.00р."}}]
[3,"О-3-10 Зелест Огнепроф бесцветный 10кг","канистра",null,{"v":800,"d":"800р."},null,{"v":0,"d":"0.00р."}]
[4,"О-3-20 Зелест Огнепроф бесцветный 20кг","канистра",null,{"v":1560,"d":"1,560р."},null,{"v":0,"d":"0.00р."}]
["Огне- биозащита СТАНДАРТ II гр.",{"$nulls":4},"-"]
[5,"О-1-10 Зелест Огнестандарт бесцв. 10кг","канистра","Комплексная огне- биозащита древесины. Не изменяет цвет древесины, колеруется водными морилками.",{"v":600,"d":"600р."},null,{"$f":"E12*F12","v":{"v":0,"d":"0.00р."}}]
[6,"О-1-10 Зелест Огнестандарт бесцв. 20кг","канистра",null,{"v":1200,"d":"1,200р."},null,{"$f":"E13*F13","v":{"v":0,"d":"0.00р."}}]
["Огне- биозащита СТАНДАРТ II гр. с тонированием",{"$nulls":4},"-"]
[7,"О-1-10 Зелест Огнестандарт с тонир. 10кг","канистра","Комплексная огне- биозащита древесины. Тонирует древесину в вишневый оттенок для контроля качества огнезащитной обработки.",{"v":600,"d":"600р."},null,{"$f":"E15*F15","v":{"v":0,"d":"0.00р."}}]
[8,"О-1-10 Зелест Огнестандарт с тонир. 20кг","канистра",null,{"v":1200,"d":"1,200р."},null,{"$f":"E16*F16","v":{"v":0,"d":"0.00р."}}]
["Антисептики",{"$nulls":4},"-"]
["Антисептик НЕВЫМЫВАЕМЫЙ",{"$nulls":4},"-"]
[1,"Зелест А-4 5 кг","канистра","Профессиональная и долговременная защита древесины от интенсивного гниения, в условиях особо интенсивного увлажнения и биоразрушения, непрерывном контакте с грунтом и водой. Придает древесине зеленоватый оттенок",{"v":390,"d":"390р."},null,{"$f":"E19*F19","v":{"v":0,"d":"0.00р."}}]
[2,"Зелест А-4 10 кг","канистра",null,{"v":700,"d":"700р."},null,{"$f":"E20*F20","v":{"v":0,"d":"0.00р."}}]
[3,"Зелест Антисептик А-4 (1кг) 1:4","канистра",null,{"v":540,"d":"540р."},null,{"v":0,"d":"0.00р."}]
["Антисептик ТРУДНОВЫМЫВАЕМЫЙ",{"$nulls":4},"-"]
[4,"Зелест А-3 5 кг","канистра","Усиленная защита ответственных элементов деревянных конструкций от гниения и поражения насекомыми в труднодоступных влажных местах, в условиях воздействия атмосферных осадков, почвенной влаги. Придает древесине зеленоватый оттенок.",{"v":305,"d":"305р."},null,{"$f":"E23*F23","v":{"v":0,"d":"0.00р."}}]
[5,"Зелест А-3 10 кг","канистра",null,{"v":560,"d":"560р."},null,{"$f":"E24*F24","v":{"v":0,"d":"0.00р."}}]
[6,"Зелест Антисептик А-3 (1кг) 1:4","канистра",null,{"v":220,"d":"220р."},null,{"v":0,"d":"0.00р."}]
["Антисептик для наружных и внутренних работ ЭКОБИО бесцветный",{"$nulls":4},"-"]
[7,"Зелест А-1 5 кг","канистра","Надежная и экологичная защита древесины от синевы и плесени внутри помещений и под навесом в условиях конденсационного и гигроскопического увлажения. Не изменяет цвет древесины.",{"v":270,"d":"270р."},null,{"$f":"E27*F27","v":{"v":0,"d":"0.00р."}}]
[8,"Зелест А-1 10 кг","канистра",null,{"v":490,"d":"490р."},null,{"$f":"E28*F28","v":{"v":0,"d":"0.00р."}}]
[9,"Зелест ЭКОБИО бесцв.сух.конц-т (1:9) 5 кг","пакет",null,{"v":1070,"d":"1,070р."},null,{"v":0,"d":"0.00р."}]
["Антисептик УНИВЕРСАЛ для наружных и внутренних работ",{"$nulls":4},"-"]
[10,"Зелест А-2 (5 кг)","канистра","Надежная и экологичная защита древесины от синевы, плесени, поражения насекомыми на весь период с начала возведения до финишной отделки, включая изготовление,транспортировку и хранение. ",{"v":300,"d":"300р."},null,{"$f":"E31*F31","v":{"v":0,"d":"0.00р."}}]
[11,"Зелест А-2 (10 кг)","канистра",null,{"v":540,"d":"540р."},null,{"$f":"E32*F32","v":{"v":0,"d":"0.00р."}}]
[12,"Зелест УНИВЕРСАЛ бесцв.жид.конц-т (1:9) 1 кг","канистра",null,{"v":410,"d":"410р."},null,{"v":0,"d":"0.00р."}]
["Средства для восстановления древесины ",{"$nulls":4},"-"]
[13,"Зелест С-2-06  (отбеливатель с запахом хвои)","канистра","Высокоэффективный отбеливатель с усиленным проникающим действием для быстрого восстановления естественного природного цвета потемневшей древесины.",{"v":480,"d":"480р."},null,{"$f":"E35*F35","v":{"v":0,"d":"0.00р."}}]
[14,"Зелест С-2-12 кг (отбеливатель с запахом хвои)","канистра",null,{"v":880,"d":"880р."},null,{"v":0,"d":"0.00р."}]
[15,"С-1 Зелест Инсектицид жидкий концентрат (1:9) 1 кг","канистра",null,{"v":520,"d":"520р."},null,{"$f":"E36*F37","v":{"v":0,"d":"0.00р."}}]
[{"$nulls":5},"Общая сумма",{"$f":"SUM(G7:G37)","v":{"v":0,"d":"0.00р."}}]

{"sheet":"Грунт для OSB ","index":16,"n_rows":9,"n_cols":7,"rows_kept":9,"merged":[[1,0,1,6],[4,0,4,4],[5,3,7,3]]}
[{"$nulls":6},"на главную страницу"]
["ГРУНТ-краска Holzer для OSB-3"]
[]
["№","Наименование","Ед. изм.","Характеристика","Цена, руб","Кол-во заказа","Сумма, руб"]
["Грунты для OSB-3 для наружных и внутренних работ",{"$nulls":4},"-"]
[1,"Хольцер ОSB Грунт (Новинка!!!) 4кг","ведро","Грунт-краска предназначена для защиты, предварит. обработки перед нанесением декоративных покрытий, либо создания финишного покрытия по OSB-3. Расход 0,35-0,4гр/м2",{"v":850,"d":"850р."},null,{"$f":"E6*F6","v":{"v":0,"d":"0.00р."}}]
[2,"Хольцер ОSB Грунт (Новинка!!!) 15кг","ведро",null,{"v":2900,"d":"2,900р."},null,{"$f":"E7*F7","v":{"v":0,"d":"0.00р."}}]
[3,"Хольцер ОSB Грунт (Новинка!!!) 25кг",null,null,{"v":4500,"d":"4,500р."},null,{"v":0,"d":"0.00р."}]
[{"$nulls":5},"Общая сумма",{"$f":"SUM(G5:G8)","v":{"v":0,"d":"0.00р."}}]

{"sheet":"Напл.мат","index":17,"n_rows":9,"n_cols":10,"rows_kept":9,"merged":[[0,0,0,2],[2,0,3,0],[2,1,3,1],[2,2,3,4],[2,5,3,5],[2,6,3,6],[2,7,3,7],[2,8,3,8],[2,9,3,9],[5,2,5,4],[6,2,6,4],[6,5,6,7],[7,2,7,4],[7,5,7,7]]}
["НАПЛАВЛЯЕМЫЕ МАТЕРИАЛЫ",{"$nulls":5},"на главную страницу",null,"на главную страницу"]
[]
["№","Наименование","Цена за рулон, руб",{"$nulls":5},"Кол-во заказа","Сумма, руб"]
[]
[{"$nulls":8},"-"]
[1,"Рубероид РПП-300 (15м2) без посыпки",{"v":330,"d":"330р."},{"$nulls":6},{"$f":"C6*I6","v":{"v":0,"d":"0.00р."}}]
[4,"Мастика гидроизоляционная (20л) ведро",{"v":950,"d":"950р."},{"$nulls":6},{"$f":"C7*I7","v":{"v":0,"d":"0.00р."}}]
[5,"Праймер битумный готовый (20л) ведро",{"v":1050,"d":"1,050р."},{"$nulls":6},{"$f":"C8*I8","v":{"v":0,"d":"0.00р."}}]
[{"$nulls":8},"Общая сумма",{"$f":"SUM(J5:J8)","v":{"v":0,"d":"0.00р."}}]

{"sheet":"Цемент","index":18,"n_rows":8,"n_cols":11,"rows_kept":8,"merged":[[2,0,3,0],[2,1,3,1],[2,2,3,4],[2,5,3,5],[2,6,3,6],[2,7,3,7],[2,8,3,8],[2,9,3,9],[2,10,3,10],[5,0,5,8],[6,2,6,4]]}
["ЦЕМЕНТ",{"$nulls":5},"на главную страницу",null,null,"на главную страницу"]
[]
["№","Наименование","Цена за лист, руб",{"$nulls":5},"Ед. изм.","Кол-во заказа","Сумма, руб"]
[]
[]
["Шифер",{"$nulls":8},"-"]
[1,"Цемент М-400 40кг",{"v":270,"d":"270р."},{"$nulls":5},"мешок",null,{"$f":"C7*J7","v":{"v":0,"d":"0.00р."}}]
[{"$nulls":9},"Общая сумма",{"$f":"SUM(K7:K7)","v":{"v":0,"d":"0.00р."}}]

{"sheet":"Лист1","index":19,"n_rows":0,"n_cols":0,"rows_kept":0,"hidden":true}